BEGIN:VCALENDAR
VERSION:2.0
PRODID:www.cafemuseum.at
X-PUBLISHED-TTL:P1W
BEGIN:VEVENT
UID:69393e6af2324
DTSTART:20260120T180000
SEQUENCE:0
TRANSP:OPAQUE
DTEND:20260120T193000
LOCATION:Café Museum
SUMMARY:Lesung - Eva Holzmair - Wolkenschwer
CLASS:PUBLIC
DTSTAMP:20251210T093330Z
END:VEVENT
END:VCALENDAR